BEGIN:VCALENDAR
VERSION:2.0
PRODID:-//ChamberMaster//Event Calendar 2.0//EN
METHOD:PUBLISH
X-PUBLISHED-TTL:P3D
REFRESH-INTERVAL:P3D
CALSCALE:GREGORIAN
BEGIN:VEVENT
DTSTART:20161121T000000Z
DTEND:20161121T020000Z
X-MICROSOFT-CDO-ALLDAYEVENT:FALSE
SUMMARY:9th Annual Sing-along "Messiah"
DESCRIPTION:Open to the public. This is a community event in which people are encouraged to come and sing Handel's Messiah. Music will be available to borrow or you can bring your own. This yearly event is a great prelude to the holiday season!\n\n			\n\n			Free admission (freewill donation).\n		\n		\n			Contact : \n			Trinity United Presbyterian Church\n		\n		\n			Phone : \n			(209) 765-6388\n		\n		\n			Email : \n			 \n		\n		\n			Web Site :
X-ALT-DESC;FMTTYPE=text/html:<table border="0" cellpadding="0" cellspacing="2" width="500">\n	<tbody>\n		<tr>\n			<td>Open to the public. This is a community event in which people are encouraged to come and sing Handel&#39\;s Messiah. Music will be available to borrow or you can bring your own. This yearly event is a great prelude to the holiday season!<br />\n			<br />\n			Free admission (freewill donation).</td>\n		</tr>\n		<tr>\n			<td align="left" class="blue" valign="top"><strong>Contact : </strong></td>\n			<td>Trinity United Presbyterian Church</td>\n		</tr>\n		<tr>\n			<td align="left" class="blue" valign="top"><strong>Phone : </strong></td>\n			<td>(209) 765-6388</td>\n		</tr>\n		<tr>\n			<td align="left" class="blue" valign="top"><strong>Email : </strong></td>\n			<td>&nbsp\;</td>\n		</tr>\n		<tr>\n			<td align="left" class="blue" valign="top"><strong>Web Site :&nbsp\;</strong></td>\n		</tr>\n	</tbody>\n</table>\n
LOCATION:Trinity United Presbyterian Church 1600 Carver Road Modesto\, Ca 95350
UID:e.2695.2386
SEQUENCE:3
DTSTAMP:20260425T210008Z
URL:http://modchamberca.chambermaster.com/events/details/9th-annual-sing-along-messiah-2386
END:VEVENT

END:VCALENDAR
