BEGIN:VCALENDAR
VERSION:2.0
PRODID:-//ChamberMaster//Event Calendar 2.0//EN
METHOD:PUBLISH
X-PUBLISHED-TTL:P3D
REFRESH-INTERVAL:P3D
CALSCALE:GREGORIAN
BEGIN:VEVENT
DTSTART:20091001T070000Z
DTEND:20100201T080000Z
X-MICROSOFT-CDO-ALLDAYEVENT:FALSE
SUMMARY:Annual Dinner 2010
DESCRIPTION:
X-ALT-DESC;FMTTYPE=text/html:
LOCATION:
UID:e.2695.119
SEQUENCE:3
DTSTAMP:20260425T234924Z
URL:http://modchamberca.chambermaster.com/events/details/annual-dinner-2010-10-01-2009-119
END:VEVENT

END:VCALENDAR
