BEGIN:VCALENDAR
VERSION:2.0
PRODID:-//ChamberMaster//Event Calendar 2.0//EN
METHOD:PUBLISH
X-PUBLISHED-TTL:P3D
REFRESH-INTERVAL:P3D
CALSCALE:GREGORIAN
BEGIN:VEVENT
DTSTART:20110113T153000Z
DTEND:20110113T163000Z
X-MICROSOFT-CDO-ALLDAYEVENT:FALSE
SUMMARY:BBH January 2011
DESCRIPTION:
X-ALT-DESC;FMTTYPE=text/html:
LOCATION:Modesto Fitness & Racquet
UID:e.2695.161
SEQUENCE:3
DTSTAMP:20260420T234937Z
URL:http://modchamberca.chambermaster.com/events/details/bbh-january-2011-01-13-2011-161
END:VEVENT

END:VCALENDAR
