BEGIN:VCALENDAR
VERSION:2.0
PRODID:-//ChamberMaster//Event Calendar 2.0//EN
METHOD:PUBLISH
X-PUBLISHED-TTL:P3D
REFRESH-INTERVAL:P3D
CALSCALE:GREGORIAN
BEGIN:VEVENT
DTSTART;VALUE=DATE:20170201
DTEND;VALUE=DATE:20170301
TRANSP:TRANSPARENT
X-MICROSOFT-CDO-ALLDAYEVENT:TRUE
SUMMARY:Foto Modesto
DESCRIPTION:A celebration of photographic arts\n\n			\n\n			20 Venues\, 140 Artists in 28 Days\n\n			\n\n			Event grand opening of Foto Modesto will be February 3\, 2017 at the Mistlin Art Gallery\, 1015 J Street\, for 6:00pm - 9:00pm\, at which time to artists who will be displaying art around town will be introduced. There will also be an ongoing Third Thursday Artwalk on February 16th when most of the exhibiting venues will be open for your view.\n\n			\n\n			Some of the Venues with Artists:\n\n			\n\n			THE MISTLIN GALLERY: Ancient Elements Exhibition\n\n			THE CHARTREUSE MUSE: Aaron Draper ( Underexposed\, Exhibit & Medium is the message)\n\n			PEER RECOVERY: Phillip Johnson\, Ashley Tacheira & Martin Baker\n\n			SLATERS FURNITURE: Ed Mendes\n\n			THE McHENRY MUSEUM: Photo Collective\n\n			RALSTON'S GOAT: Anna Barber\n\n			STANISLAUS LIBRARY: Modesto Camera Club\n\n			CANDY'S CAREFREE TRAVEL: David Schroeder\n\n			THE BARKIN' DOG: Kevin Phal\n\n			DEVA CAFE: Wildlife Exhibit\n\n			GALLO CENTER: Group Show - Performing Arts\n\n			MJC: Invited Artist\n\n			PRESERVATION COFFEE: John Wynn\n\n			PICASSO DELI: Bill Harris\n\n			STANISLAUS SCHOOLS: Student Photography\n\n			CROW TRADING CO.: Jennifer Williams & Raymond Jabola\n\n			SIERRA VISTA: Dan Souza\n\n			CONCETTA'S: Jon Souza\n\n			\n\n			More information to come.\n		\n		\n			Contact : \n			Davis Schroeder\n		\n		\n			Phone : \n			 \n		\n		\n			Email : \n			sike1@sbcglobal.net
X-ALT-DESC;FMTTYPE=text/html:<table border="0" cellpadding="0" cellspacing="2" width="500">\n	<tbody>\n		<tr>\n			<td>A celebration of photographic arts<br />\n			<br />\n			20 Venues\, 140 Artists in 28 Days<br />\n			<br />\n			Event grand opening of Foto Modesto will be February 3\, 2017 at the Mistlin Art Gallery\, 1015 J Street\, for 6:00pm - 9:00pm\, at which time to artists who will be displaying art around town will be introduced. There will also be an ongoing Third Thursday Artwalk on February 16th when most of the exhibiting venues will be open for your view.<br />\n			<br />\n			Some of the Venues with Artists:<br />\n			<br />\n			THE MISTLIN GALLERY: Ancient Elements Exhibition<br />\n			THE CHARTREUSE MUSE: Aaron Draper ( Underexposed\, Exhibit &amp\; Medium is the message)<br />\n			PEER RECOVERY: Phillip Johnson\, Ashley Tacheira &amp\; Martin Baker<br />\n			SLATERS FURNITURE: Ed Mendes<br />\n			THE McHENRY MUSEUM: Photo Collective<br />\n			RALSTON&#39\;S GOAT: Anna Barber<br />\n			STANISLAUS LIBRARY: Modesto Camera Club<br />\n			CANDY&#39\;S CAREFREE TRAVEL: David Schroeder<br />\n			THE BARKIN&#39\; DOG: Kevin Phal<br />\n			DEVA CAFE: Wildlife Exhibit<br />\n			GALLO CENTER: Group Show - Performing Arts<br />\n			MJC: Invited Artist<br />\n			PRESERVATION COFFEE: John Wynn<br />\n			PICASSO DELI: Bill Harris<br />\n			STANISLAUS SCHOOLS: Student Photography<br />\n			CROW TRADING CO.: Jennifer Williams &amp\; Raymond Jabola<br />\n			SIERRA VISTA: Dan Souza<br />\n			CONCETTA&#39\;S: Jon Souza<br />\n			<br />\n			More information to come.</td>\n		</tr>\n		<tr>\n			<td align="left" class="blue" valign="top"><strong>Contact : </strong></td>\n			<td>Davis Schroeder</td>\n		</tr>\n		<tr>\n			<td align="left" class="blue" valign="top"><strong>Phone : </strong></td>\n			<td>&nbsp\;</td>\n		</tr>\n		<tr>\n			<td align="left" class="blue" valign="top"><strong>Email : </strong></td>\n			<td><a href="mailto:sike1@sbcglobal.net">sike1@sbcglobal.net</a></td>\n		</tr>\n	</tbody>\n</table>\n
LOCATION:20 Modesto Venues Modesto \,Ca 95354
UID:e.2695.2515
SEQUENCE:3
DTSTAMP:20260425T130515Z
URL:http://modchamberca.chambermaster.com/events/details/foto-modesto-2515
END:VEVENT

END:VCALENDAR
