BEGIN:VCALENDAR
VERSION:2.0
PRODID:-//ChamberMaster//Event Calendar 2.0//EN
METHOD:PUBLISH
X-PUBLISHED-TTL:P3D
REFRESH-INTERVAL:P3D
CALSCALE:GREGORIAN
BEGIN:VEVENT
DTSTART:20110315T070000Z
DTEND:20110915T070000Z
X-MICROSOFT-CDO-ALLDAYEVENT:FALSE
SUMMARY:Hot Topic 2011
DESCRIPTION:
X-ALT-DESC;FMTTYPE=text/html:
LOCATION:
UID:e.2695.168
SEQUENCE:3
DTSTAMP:20260420T232008Z
URL:http://modchamberca.chambermaster.com/events/details/hot-topic-2011-03-15-2011-168
END:VEVENT

END:VCALENDAR
