BEGIN:VCALENDAR
VERSION:2.0
PRODID:-//ChamberMaster//Event Calendar 2.0//EN
METHOD:PUBLISH
X-PUBLISHED-TTL:P3D
REFRESH-INTERVAL:P3D
CALSCALE:GREGORIAN
BEGIN:VEVENT
DTSTART:20170611T210000Z
DTEND:20170611T230000Z
X-MICROSOFT-CDO-ALLDAYEVENT:FALSE
SUMMARY:Luv2Dance: Bringing it Back
DESCRIPTION:Doors at 1\; show at 2 p.m.\n\n			\n\n			\n\n			The mother-daughter team behind Luv2Dance is presenting an exciting new dance show for 2017 titled Bringin' It Back. Megh Harter and Michelle Rau and their dancers ~ ages 3 to hoofers well into their 70s ~ are returning to The State to perform tap\, hip hop and break dancing routines taught year-round at their Modesto studio. Luv2Dance offers classes in tap\, hip hop and break dancing and also special needs tap classes. Their annual showcase lasts just over an hour so come and have some fun as Luv 2 Dance Brings It Back to basics and lots of fun for all!\n\n			\n\n			General admission: $12\n		\n		\n			Contact : \n			State Theatre\n		\n		\n			Phone : \n			BOX OFFICE (209) 527-4697\n		\n		\n			Email : \n			 \n		\n		\n			Web Site : \n			www.thestate.org
X-ALT-DESC;FMTTYPE=text/html:<table border="0" cellpadding="0" cellspacing="2" width="500">\n	<tbody>\n		<tr>\n			<td>Doors at 1\; show at 2 p.m.<br />\n			<br />\n			<br />\n			The mother-daughter team behind Luv2Dance is presenting an exciting new dance show for 2017 titled Bringin&rsquo\; It Back. Megh Harter and Michelle Rau and their dancers ~ ages 3 to hoofers well into their 70s ~ are returning to The State to perform tap\, hip hop and break dancing routines taught year-round at their Modesto studio. Luv2Dance offers classes in tap\, hip hop and break dancing and also special needs tap classes. Their annual showcase lasts just over an hour so come and have some fun as Luv 2 Dance Brings It Back to basics and lots of fun for all!<br />\n			<br />\n			General admission: $12</td>\n		</tr>\n		<tr>\n			<td align="left" class="blue" valign="top"><strong>Contact : </strong></td>\n			<td>State Theatre</td>\n		</tr>\n		<tr>\n			<td align="left" class="blue" valign="top"><strong>Phone : </strong></td>\n			<td>BOX OFFICE (209) 527-4697</td>\n		</tr>\n		<tr>\n			<td align="left" class="blue" valign="top"><strong>Email : </strong></td>\n			<td>&nbsp\;</td>\n		</tr>\n		<tr>\n			<td align="left" class="blue" valign="top"><strong>Web Site : </strong></td>\n			<td><a href="http://www.thestate.org/" target="_blank">www.thestate.org</a></td>\n		</tr>\n	</tbody>\n</table>\n
LOCATION:State Theatre 1307 J Street Modesto\, Ca 95354
UID:e.2695.2873
SEQUENCE:3
DTSTAMP:20260424T220346Z
URL:http://modchamberca.chambermaster.com/events/details/luv2dance-bringing-it-back-2873
END:VEVENT

END:VCALENDAR
