BEGIN:VCALENDAR
VERSION:2.0
PRODID:-//ChamberMaster//Event Calendar 2.0//EN
METHOD:PUBLISH
X-PUBLISHED-TTL:P3D
REFRESH-INTERVAL:P3D
CALSCALE:GREGORIAN
BEGIN:VEVENT
DTSTART:20170205T013000Z
DTEND:20170205T060000Z
X-MICROSOFT-CDO-ALLDAYEVENT:FALSE
SUMMARY:Make a Wish Wishmaker's Ball
DESCRIPTION:The evening will include a 3-course dinner\, a silent auction featuring over 200 unique and fun items\, a live auction featuring exclusive getaways\, and a separate after-party immediately following the event that is not to be missed! Plus hear directly from the wish children whose lives have been touched by the power of a wish. All money raised stays locally to grant the wishes of children with life-threatening medical conditions. 5:30 p.m. Cocktails & Raffle\, 6:30 p.m.\, Dinner 7:30 p.m. Program. Tickets $400.00 each.\n		\n		\n			Contact : \n			 \n		\n		\n			Phone : \n			916-437-0206\n		\n		\n			Email : \n			 \n		\n		\n			Web Site :
X-ALT-DESC;FMTTYPE=text/html:<table border="0" cellpadding="0" cellspacing="2" width="500">\n	<tbody>\n		<tr>\n			<td>The evening will include a 3-course dinner\, a silent auction featuring over 200 unique and fun items\, a live auction featuring exclusive getaways\, and a separate after-party immediately following the event that is not to be missed! Plus hear directly from the wish children whose lives have been touched by the power of a wish. All money raised stays locally to grant the wishes of children with life-threatening medical conditions. 5:30 p.m. Cocktails &amp\; Raffle\, 6:30 p.m.\, Dinner 7:30 p.m. Program. Tickets $400.00 each.</td>\n		</tr>\n		<tr>\n			<td align="left" class="blue" valign="top"><strong>Contact : </strong></td>\n			<td>&nbsp\;</td>\n		</tr>\n		<tr>\n			<td align="left" class="blue" valign="top"><strong>Phone : </strong></td>\n			<td>916-437-0206</td>\n		</tr>\n		<tr>\n			<td align="left" class="blue" valign="top"><strong>Email : </strong></td>\n			<td>&nbsp\;</td>\n		</tr>\n		<tr>\n			<td align="left" class="blue" valign="top"><strong>Web Site : </strong></td>\n			<td>&nbsp\;</td>\n		</tr>\n		<tr>\n			<td align="left" class="blue" colspan="2" valign="top">\n			<p>&nbsp\;</p>\n			</td>\n		</tr>\n	</tbody>\n</table>\n
LOCATION:Doubletree Hotel 1150 9th Street Modesto\, Ca 95354
UID:e.2695.2552
SEQUENCE:3
DTSTAMP:20260424T075653Z
URL:http://modchamberca.chambermaster.com/events/details/make-a-wish-wishmaker-s-ball-2552
END:VEVENT

END:VCALENDAR
