BEGIN:VCALENDAR
VERSION:2.0
PRODID:-//ChamberMaster//Event Calendar 2.0//EN
METHOD:PUBLISH
X-PUBLISHED-TTL:P3D
REFRESH-INTERVAL:P3D
CALSCALE:GREGORIAN
BEGIN:VEVENT
DTSTART:20221216T020000Z
DTEND:20221216T050000Z
X-MICROSOFT-CDO-ALLDAYEVENT:FALSE
SUMMARY:Mix & Jingle Open House
DESCRIPTION:We're excited to spread some holiday cheer this December during our Mix & Jingle Open House!\n\nHosted here on Dec. 15th at 6pm\, this is the perfect opportunity to mingle with co-members or\, if you're not a member already\, check out what Nine3One is all about. Free to both members and the public\, we're offering a cookie-decorating station\, games\, an ugly sweater competition\, yummy appetizers\, and more so this is a holiday mixer you won't want to miss!\n\nPlus ones are encouraged\, so please be sure to RSVP at the button below and we can't wait to see you there!
X-ALT-DESC;FMTTYPE=text/html:<p>We&rsquo\;re excited to spread some holiday cheer this December during our Mix &amp\; Jingle Open House!</p>\n\n<p>Hosted here on Dec. 15th at 6pm\, this is the perfect opportunity to mingle with co-members or\, if you&#39\;re not a member already\, check out what Nine3One is all about. Free to both members and the public\, we&rsquo\;re offering a cookie-decorating station\, games\, an ugly sweater competition\, yummy appetizers\, and more so this is a holiday mixer you won&rsquo\;t want to miss!</p>\n\n<p>Plus ones are encouraged\, so please be sure to RSVP at the button below and we can&rsquo\;t wait to see you there!</p>\n
LOCATION:Nine3One 931 10th Street Modesto\, CA 95354
UID:e.2695.9406
SEQUENCE:3
DTSTAMP:20260424T154424Z
URL:http://modchamberca.chambermaster.com/events/details/mix-jingle-open-house-9406
END:VEVENT

END:VCALENDAR
